BEGIN:VCALENDAR
VERSION:2.0
PRODID:-//Local Marketing Master Class - ECPv6.15.17.1//NONSGML v1.0//EN
CALSCALE:GREGORIAN
METHOD:PUBLISH
X-WR-CALNAME:Local Marketing Master Class
X-ORIGINAL-URL:https://lsmguide.com
X-WR-CALDESC:Events for Local Marketing Master Class
REFRESH-INTERVAL;VALUE=DURATION:PT1H
X-Robots-Tag:noindex
X-PUBLISHED-TTL:PT1H
BEGIN:VTIMEZONE
TZID:America/New_York
BEGIN:DAYLIGHT
TZOFFSETFROM:-0500
TZOFFSETTO:-0400
TZNAME:EDT
DTSTART:20170312T070000
END:DAYLIGHT
BEGIN:STANDARD
TZOFFSETFROM:-0400
TZOFFSETTO:-0500
TZNAME:EST
DTSTART:20171105T060000
END:STANDARD
BEGIN:DAYLIGHT
TZOFFSETFROM:-0500
TZOFFSETTO:-0400
TZNAME:EDT
DTSTART:20180311T070000
END:DAYLIGHT
BEGIN:STANDARD
TZOFFSETFROM:-0400
TZOFFSETTO:-0500
TZNAME:EST
DTSTART:20181104T060000
END:STANDARD
BEGIN:DAYLIGHT
TZOFFSETFROM:-0500
TZOFFSETTO:-0400
TZNAME:EDT
DTSTART:20190310T070000
END:DAYLIGHT
BEGIN:STANDARD
TZOFFSETFROM:-0400
TZOFFSETTO:-0500
TZNAME:EST
DTSTART:20191103T060000
END:STANDARD
END:VTIMEZONE
BEGIN:VEVENT
DTSTART;VALUE=DATE:20180505
DTEND;VALUE=DATE:20180506
DTSTAMP:20260422T062615
CREATED:20141231T221635Z
LAST-MODIFIED:20180409T145354Z
UID:16168-1525478400-1525564799@lsmguide.com
SUMMARY:Cinco de Mayo
DESCRIPTION:
URL:https://lsmguide.com/marketing-holiday/cinco-de-mayo/
END:VEVENT
BEGIN:VEVENT
DTSTART;VALUE=DATE:20180508
DTEND;VALUE=DATE:20180509
DTSTAMP:20260422T062615
CREATED:20150423T144237Z
LAST-MODIFIED:20180409T145330Z
UID:18162-1525737600-1525823999@lsmguide.com
SUMMARY:Military Spouse Appreciation Day
DESCRIPTION:
URL:https://lsmguide.com/marketing-holiday/military-spouse-appreciation-day/
END:VEVENT
BEGIN:VEVENT
DTSTART;VALUE=DATE:20180512
DTEND;VALUE=DATE:20180513
DTSTAMP:20260422T062615
CREATED:20150423T144310Z
LAST-MODIFIED:20180409T145321Z
UID:18164-1526083200-1526169599@lsmguide.com
SUMMARY:International Nurses Day
DESCRIPTION:
URL:https://lsmguide.com/marketing-holiday/international-nurses-day/
END:VEVENT
BEGIN:VEVENT
DTSTART;VALUE=DATE:20180513
DTEND;VALUE=DATE:20180514
DTSTAMP:20260422T062615
CREATED:20160425T220729Z
LAST-MODIFIED:20180425T231248Z
UID:23305-1526169600-1526255999@lsmguide.com
SUMMARY:Mother's Day (US)
DESCRIPTION:Mother’s Day in the U.S. take place the 2nd Sunday of May
URL:https://lsmguide.com/marketing-holiday/mothers-day-us/
END:VEVENT
BEGIN:VEVENT
DTSTART;VALUE=DATE:20180514
DTEND;VALUE=DATE:20180515
DTSTAMP:20260422T062615
CREATED:20151013T193030Z
LAST-MODIFIED:20180405T192542Z
UID:22498-1526256000-1526342399@lsmguide.com
SUMMARY:Buttermilk Biscuit Day
DESCRIPTION:
URL:https://lsmguide.com/marketing-holiday/buttermilk-biscuit-day/
END:VEVENT
BEGIN:VEVENT
DTSTART;VALUE=DATE:20180517
DTEND;VALUE=DATE:20180518
DTSTAMP:20260422T062615
CREATED:20151013T193039Z
LAST-MODIFIED:20180409T150322Z
UID:22523-1526515200-1526601599@lsmguide.com
SUMMARY:Cherry Cobbler Day
DESCRIPTION:
URL:https://lsmguide.com/marketing-holiday/cherry-cobbler-day/
END:VEVENT
BEGIN:VEVENT
DTSTART;VALUE=DATE:20180518
DTEND;VALUE=DATE:20180519
DTSTAMP:20260422T062615
CREATED:20150429T190513Z
LAST-MODIFIED:20180409T145511Z
UID:18210-1526601600-1526687999@lsmguide.com
SUMMARY:Museum Day
DESCRIPTION:
URL:https://lsmguide.com/marketing-holiday/museum-day/
END:VEVENT
BEGIN:VEVENT
DTSTART;VALUE=DATE:20180527
DTEND;VALUE=DATE:20180528
DTSTAMP:20260422T062615
CREATED:20151013T193038Z
LAST-MODIFIED:20180409T145922Z
UID:22512-1527379200-1527465599@lsmguide.com
SUMMARY:Cellophane Tape Day
DESCRIPTION:
URL:https://lsmguide.com/marketing-holiday/cellophane-tape-day/
END:VEVENT
BEGIN:VEVENT
DTSTART;VALUE=DATE:20180528
DTEND;VALUE=DATE:20180529
DTSTAMP:20260422T062615
CREATED:20141231T221635Z
LAST-MODIFIED:20180425T230935Z
UID:16176-1527465600-1527551999@lsmguide.com
SUMMARY:Memorial Day
DESCRIPTION:
URL:https://lsmguide.com/marketing-holiday/memorial-day/
END:VEVENT
BEGIN:VEVENT
DTSTART;VALUE=DATE:20180528
DTEND;VALUE=DATE:20180529
DTSTAMP:20260422T062615
CREATED:20150429T193827Z
LAST-MODIFIED:20180409T145618Z
UID:21861-1527465600-1527551999@lsmguide.com
SUMMARY:Brisket Day
DESCRIPTION:
URL:https://lsmguide.com/marketing-holiday/national-brisket-day/
END:VEVENT
END:VCALENDAR