BEGIN:VCALENDAR
VERSION:2.0
PRODID:-//Local Marketing Master Class - ECPv6.15.17.1//NONSGML v1.0//EN
CALSCALE:GREGORIAN
METHOD:PUBLISH
X-WR-CALNAME:Local Marketing Master Class
X-ORIGINAL-URL:https://lsmguide.com
X-WR-CALDESC:Events for Local Marketing Master Class
REFRESH-INTERVAL;VALUE=DURATION:PT1H
X-Robots-Tag:noindex
X-PUBLISHED-TTL:PT1H
BEGIN:VTIMEZONE
TZID:America/New_York
BEGIN:DAYLIGHT
TZOFFSETFROM:-0500
TZOFFSETTO:-0400
TZNAME:EDT
DTSTART:20140309T070000
END:DAYLIGHT
BEGIN:STANDARD
TZOFFSETFROM:-0400
TZOFFSETTO:-0500
TZNAME:EST
DTSTART:20141102T060000
END:STANDARD
BEGIN:DAYLIGHT
TZOFFSETFROM:-0500
TZOFFSETTO:-0400
TZNAME:EDT
DTSTART:20150308T070000
END:DAYLIGHT
BEGIN:STANDARD
TZOFFSETFROM:-0400
TZOFFSETTO:-0500
TZNAME:EST
DTSTART:20151101T060000
END:STANDARD
BEGIN:DAYLIGHT
TZOFFSETFROM:-0500
TZOFFSETTO:-0400
TZNAME:EDT
DTSTART:20160313T070000
END:DAYLIGHT
BEGIN:STANDARD
TZOFFSETFROM:-0400
TZOFFSETTO:-0500
TZNAME:EST
DTSTART:20161106T060000
END:STANDARD
END:VTIMEZONE
BEGIN:VEVENT
DTSTART;VALUE=DATE:20150311
DTEND;VALUE=DATE:20150312
DTSTAMP:20260420T110820
CREATED:20151013T193023Z
LAST-MODIFIED:20151013T193023Z
UID:22439-1426032000-1426118399@lsmguide.com
SUMMARY:Eat Your Noodles Day
DESCRIPTION:
URL:https://lsmguide.com/marketing-holiday/eat-your-noodles-day/
END:VEVENT
BEGIN:VEVENT
DTSTART;VALUE=DATE:20150313
DTEND;VALUE=DATE:20150314
DTSTAMP:20260420T110820
CREATED:20151013T193042Z
LAST-MODIFIED:20151013T193042Z
UID:22550-1426204800-1426291199@lsmguide.com
SUMMARY:Coconut Torte Day
DESCRIPTION:
URL:https://lsmguide.com/marketing-holiday/coconut-torte-day/
END:VEVENT
BEGIN:VEVENT
DTSTART;VALUE=DATE:20150315
DTEND;VALUE=DATE:20150316
DTSTAMP:20260420T110820
CREATED:20141231T221633Z
LAST-MODIFIED:20141231T221633Z
UID:16146-1426377600-1426463999@lsmguide.com
SUMMARY:Ides of March
DESCRIPTION:
URL:https://lsmguide.com/marketing-holiday/ides-of-march/
END:VEVENT
BEGIN:VEVENT
DTSTART;VALUE=DATE:20150316
DTEND;VALUE=DATE:20150317
DTSTAMP:20260420T110820
CREATED:20151013T193026Z
LAST-MODIFIED:20151013T193026Z
UID:22453-1426464000-1426550399@lsmguide.com
SUMMARY:Artichoke Hearts Day
DESCRIPTION:
URL:https://lsmguide.com/marketing-holiday/artichoke-hearts-day/
END:VEVENT
BEGIN:VEVENT
DTSTART;VALUE=DATE:20150317
DTEND;VALUE=DATE:20150318
DTSTAMP:20260420T110820
CREATED:20141231T221633Z
LAST-MODIFIED:20141231T221633Z
UID:16147-1426550400-1426636799@lsmguide.com
SUMMARY:St. Patrick's Day
DESCRIPTION:
URL:https://lsmguide.com/marketing-holiday/st-patricks-day/
END:VEVENT
BEGIN:VEVENT
DTSTART;VALUE=DATE:20150317
DTEND;VALUE=DATE:20150318
DTSTAMP:20260420T110820
CREATED:20141231T221634Z
LAST-MODIFIED:20141231T221634Z
UID:16148-1426550400-1426636799@lsmguide.com
SUMMARY:March Madness Begins
DESCRIPTION:
URL:https://lsmguide.com/marketing-holiday/march-madness-begins/
END:VEVENT
BEGIN:VEVENT
DTSTART;VALUE=DATE:20150318
DTEND;VALUE=DATE:20150319
DTSTAMP:20260420T110820
CREATED:20151013T193028Z
LAST-MODIFIED:20151013T193028Z
UID:22476-1426636800-1426723199@lsmguide.com
SUMMARY:Biodiesel Day
DESCRIPTION:
URL:https://lsmguide.com/marketing-holiday/biodiesel-day/
END:VEVENT
BEGIN:VEVENT
DTSTART;VALUE=DATE:20150319
DTEND;VALUE=DATE:20150320
DTSTAMP:20260420T110820
CREATED:20151013T193040Z
LAST-MODIFIED:20151013T193040Z
UID:22529-1426723200-1426809599@lsmguide.com
SUMMARY:Chocolate Caramel Day
DESCRIPTION:
URL:https://lsmguide.com/marketing-holiday/chocolate-caramel-day/
END:VEVENT
BEGIN:VEVENT
DTSTART;VALUE=DATE:20150320
DTEND;VALUE=DATE:20150321
DTSTAMP:20260420T110820
CREATED:20141231T221634Z
LAST-MODIFIED:20141231T221634Z
UID:16149-1426809600-1426895999@lsmguide.com
SUMMARY:First Day of Spring
DESCRIPTION:
URL:https://lsmguide.com/marketing-holiday/first-day-of-spring/
END:VEVENT
BEGIN:VEVENT
DTSTART;VALUE=DATE:20150321
DTEND;VALUE=DATE:20150322
DTSTAMP:20260420T110820
CREATED:20150105T152055Z
LAST-MODIFIED:20150105T152055Z
UID:16328-1426896000-1426982399@lsmguide.com
SUMMARY:National Quilting Day
DESCRIPTION:
URL:https://lsmguide.com/marketing-holiday/national-quilting-day/
END:VEVENT
BEGIN:VEVENT
DTSTART;VALUE=DATE:20150321
DTEND;VALUE=DATE:20150322
DTSTAMP:20260420T110820
CREATED:20150219T023209Z
LAST-MODIFIED:20150219T023209Z
UID:17321-1426896000-1426982399@lsmguide.com
SUMMARY:Memory Day
DESCRIPTION:
URL:https://lsmguide.com/marketing-holiday/memory-day/
END:VEVENT
BEGIN:VEVENT
DTSTART;VALUE=DATE:20150321
DTEND;VALUE=DATE:20150322
DTSTAMP:20260420T110820
CREATED:20151013T193031Z
LAST-MODIFIED:20151013T193031Z
UID:22501-1426896000-1426982399@lsmguide.com
SUMMARY:California Strawberry Day
DESCRIPTION:
URL:https://lsmguide.com/marketing-holiday/california-strawberry-day/
END:VEVENT
BEGIN:VEVENT
DTSTART;VALUE=DATE:20150321
DTEND;VALUE=DATE:20150322
DTSTAMP:20260420T110820
CREATED:20151013T193043Z
LAST-MODIFIED:20151013T193043Z
UID:22561-1426896000-1426982399@lsmguide.com
SUMMARY:Corn Dog Day
DESCRIPTION:
URL:https://lsmguide.com/marketing-holiday/corn-dog-day/
END:VEVENT
BEGIN:VEVENT
DTSTART;VALUE=DATE:20150322
DTEND;VALUE=DATE:20150323
DTSTAMP:20260420T110820
CREATED:20141231T221634Z
LAST-MODIFIED:20141231T221634Z
UID:16150-1426982400-1427068799@lsmguide.com
SUMMARY:World Water Day
DESCRIPTION:
URL:https://lsmguide.com/marketing-holiday/world-water-day/
END:VEVENT
BEGIN:VEVENT
DTSTART;VALUE=DATE:20150322
DTEND;VALUE=DATE:20150323
DTSTAMP:20260420T110820
CREATED:20151013T193027Z
LAST-MODIFIED:20151013T193027Z
UID:22467-1426982400-1427068799@lsmguide.com
SUMMARY:Bavarian Crepes Day
DESCRIPTION:
URL:https://lsmguide.com/marketing-holiday/bavarian-crepes-day/
END:VEVENT
BEGIN:VEVENT
DTSTART;VALUE=DATE:20150323
DTEND;VALUE=DATE:20150324
DTSTAMP:20260420T110820
CREATED:20141231T221634Z
LAST-MODIFIED:20151013T193040Z
UID:16151-1427068800-1427155199@lsmguide.com
SUMMARY:Chip and Dip Day
DESCRIPTION:
URL:https://lsmguide.com/marketing-holiday/chip-and-dip-day/
END:VEVENT
BEGIN:VEVENT
DTSTART;VALUE=DATE:20150324
DTEND;VALUE=DATE:20150325
DTSTAMP:20260420T110820
CREATED:20151013T193040Z
LAST-MODIFIED:20151013T193040Z
UID:22534-1427155200-1427241599@lsmguide.com
SUMMARY:Chocolate Covered Raisins Day
DESCRIPTION:
URL:https://lsmguide.com/marketing-holiday/chocolate-covered-raisins-day/
END:VEVENT
BEGIN:VEVENT
DTSTART;VALUE=DATE:20150327
DTEND;VALUE=DATE:20150328
DTSTAMP:20260420T110820
CREATED:20141231T221634Z
LAST-MODIFIED:20141231T221634Z
UID:16153-1427414400-1427500799@lsmguide.com
SUMMARY:World Whiskey Day
DESCRIPTION:
URL:https://lsmguide.com/marketing-holiday/world-whiskey-day/
END:VEVENT
BEGIN:VEVENT
DTSTART;VALUE=DATE:20150328
DTEND;VALUE=DATE:20150329
DTSTAMP:20260420T110820
CREATED:20151013T193028Z
LAST-MODIFIED:20151013T193028Z
UID:22480-1427500800-1427587199@lsmguide.com
SUMMARY:Black Forest Cake Day
DESCRIPTION:
URL:https://lsmguide.com/marketing-holiday/black-forest-cake-day/
END:VEVENT
BEGIN:VEVENT
DTSTART;VALUE=DATE:20150331
DTEND;VALUE=DATE:20150401
DTSTAMP:20260420T110820
CREATED:20151013T193030Z
LAST-MODIFIED:20151013T193030Z
UID:22496-1427760000-1427846399@lsmguide.com
SUMMARY:Bunsen Burner Day
DESCRIPTION:
URL:https://lsmguide.com/marketing-holiday/bunsen-burner-day/
END:VEVENT
BEGIN:VEVENT
DTSTART;VALUE=DATE:20150331
DTEND;VALUE=DATE:20150401
DTSTAMP:20260420T110820
CREATED:20151013T193042Z
LAST-MODIFIED:20151013T193042Z
UID:22547-1427760000-1427846399@lsmguide.com
SUMMARY:Clams On The Half Shell Day
DESCRIPTION:
URL:https://lsmguide.com/marketing-holiday/clams-on-the-half-shell-day/
END:VEVENT
BEGIN:VEVENT
DTSTART;VALUE=DATE:20150402
DTEND;VALUE=DATE:20150403
DTSTAMP:20260420T110820
CREATED:20141231T221634Z
LAST-MODIFIED:20141231T221634Z
UID:16155-1427932800-1428019199@lsmguide.com
SUMMARY:National Peanut Butter & Jelly Day
DESCRIPTION:
URL:https://lsmguide.com/marketing-holiday/national-peanut-butter-jelly-day/
END:VEVENT
BEGIN:VEVENT
DTSTART;VALUE=DATE:20150403
DTEND;VALUE=DATE:20150404
DTSTAMP:20260420T110820
CREATED:20141231T221634Z
LAST-MODIFIED:20141231T221634Z
UID:16156-1428019200-1428105599@lsmguide.com
SUMMARY:Anniversary of the first mobile phone call (1973)
DESCRIPTION:
URL:https://lsmguide.com/marketing-holiday/anniversary-of-the-first-mobile-phone-call-1973/
END:VEVENT
BEGIN:VEVENT
DTSTART;VALUE=DATE:20150403
DTEND;VALUE=DATE:20150404
DTSTAMP:20260420T110820
CREATED:20141231T221634Z
LAST-MODIFIED:20151013T193041Z
UID:16157-1428019200-1428105599@lsmguide.com
SUMMARY:Chocolate Mousse Day
DESCRIPTION:
URL:https://lsmguide.com/marketing-holiday/chocolate-mousse-day/
END:VEVENT
BEGIN:VEVENT
DTSTART;VALUE=DATE:20150403
DTEND;VALUE=DATE:20150404
DTSTAMP:20260420T110820
CREATED:20141231T221634Z
LAST-MODIFIED:20141231T221634Z
UID:16158-1428019200-1428105599@lsmguide.com
SUMMARY:Passover Begins
DESCRIPTION:
URL:https://lsmguide.com/marketing-holiday/passover-begins/
END:VEVENT
BEGIN:VEVENT
DTSTART;VALUE=DATE:20150404
DTEND;VALUE=DATE:20150405
DTSTAMP:20260420T110820
CREATED:20151013T193043Z
LAST-MODIFIED:20151013T193043Z
UID:22559-1428105600-1428191999@lsmguide.com
SUMMARY:Cordon Bleu Day
DESCRIPTION:
URL:https://lsmguide.com/marketing-holiday/cordon-bleu-day/
END:VEVENT
BEGIN:VEVENT
DTSTART;VALUE=DATE:20150405
DTEND;VALUE=DATE:20150406
DTSTAMP:20260420T110820
CREATED:20141231T221634Z
LAST-MODIFIED:20160202T220327Z
UID:16159-1428192000-1428278399@lsmguide.com
SUMMARY:Easter Sunday
DESCRIPTION:
URL:https://lsmguide.com/marketing-holiday/easter-sunday-15/
END:VEVENT
BEGIN:VEVENT
DTSTART;VALUE=DATE:20150407
DTEND;VALUE=DATE:20150408
DTSTAMP:20260420T110820
CREATED:20151013T193027Z
LAST-MODIFIED:20151013T193027Z
UID:22473-1428364800-1428451199@lsmguide.com
SUMMARY:Beer Day
DESCRIPTION:
URL:https://lsmguide.com/marketing-holiday/beer-day/
END:VEVENT
BEGIN:VEVENT
DTSTART;VALUE=DATE:20150407
DTEND;VALUE=DATE:20150408
DTSTAMP:20260420T110820
CREATED:20151013T193042Z
LAST-MODIFIED:20151013T193042Z
UID:22551-1428364800-1428451199@lsmguide.com
SUMMARY:Coffee Cake Day
DESCRIPTION:
URL:https://lsmguide.com/marketing-holiday/coffee-cake-day/
END:VEVENT
BEGIN:VEVENT
DTSTART;VALUE=DATE:20150409
DTEND;VALUE=DATE:20150410
DTSTAMP:20260420T110820
CREATED:20151013T193039Z
LAST-MODIFIED:20151013T193039Z
UID:22521-1428537600-1428623999@lsmguide.com
SUMMARY:Cherish an Antique Day
DESCRIPTION:
URL:https://lsmguide.com/marketing-holiday/cherish-an-antique-day/
END:VEVENT
END:VCALENDAR